BEGIN:VCALENDAR
VERSION:2.0
PRODID:-//Ippodromo di Vinovo - ECPv6.15.20//NONSGML v1.0//EN
CALSCALE:GREGORIAN
METHOD:PUBLISH
X-WR-CALNAME:Ippodromo di Vinovo
X-ORIGINAL-URL:https://ippodromovinovo.it
X-WR-CALDESC:Eventi per Ippodromo di Vinovo
REFRESH-INTERVAL;VALUE=DURATION:PT1H
X-Robots-Tag:noindex
X-PUBLISHED-TTL:PT1H
BEGIN:VTIMEZONE
TZID:Europe/Rome
BEGIN:DAYLIGHT
TZOFFSETFROM:+0100
TZOFFSETTO:+0200
TZNAME:CEST
DTSTART:20250330T010000
END:DAYLIGHT
BEGIN:STANDARD
TZOFFSETFROM:+0200
TZOFFSETTO:+0100
TZNAME:CET
DTSTART:20251026T010000
END:STANDARD
BEGIN:DAYLIGHT
TZOFFSETFROM:+0100
TZOFFSETTO:+0200
TZNAME:CEST
DTSTART:20260329T010000
END:DAYLIGHT
BEGIN:STANDARD
TZOFFSETFROM:+0200
TZOFFSETTO:+0100
TZNAME:CET
DTSTART:20261025T010000
END:STANDARD
BEGIN:DAYLIGHT
TZOFFSETFROM:+0100
TZOFFSETTO:+0200
TZNAME:CEST
DTSTART:20270328T010000
END:DAYLIGHT
BEGIN:STANDARD
TZOFFSETFROM:+0200
TZOFFSETTO:+0100
TZNAME:CET
DTSTART:20271031T010000
END:STANDARD
END:VTIMEZONE
BEGIN:VEVENT
DTSTART;TZID=Europe/Rome:20261011T130000
DTEND;TZID=Europe/Rome:20261011T180000
DTSTAMP:20260425T140807
CREATED:20260212T202039Z
LAST-MODIFIED:20260318T114800Z
UID:45342-1791723600-1791741600@ippodromovinovo.it
SUMMARY:Derby Day - 11 Ottobre 2026
DESCRIPTION:Derby del Trotto \nOaks del Trotto \nGran Prix de l’UET \nUET Elite Circuit Final
URL:https://ippodromovinovo.it/eventi/11-ottobre-2026/
LOCATION:Ippodromo di Vinovo\, Vinovo\, Piemonte\, Italy
CATEGORIES:Gran Premi
ATTACH;FMTTYPE=image/webp:https://ippodromovinovo.it/wp-content/uploads/2026/02/Logo@3x-100.webp
END:VEVENT
END:VCALENDAR